BEGIN:VCALENDAR
VERSION:2.0
PRODID:-//urwahl3000//gruene-ochtrup.de//DE
CALSCALE:GREGORIAN
BEGIN:VEVENT
DTSTART:20200210T180000
DTEND:20200210T180000
LOCATION:Hauptbahnhof Münster
GEO:;
DTSTAMP:20200210T180000
SUMMARY:Demonstration gegen die Uranmüllexporte in Münster [fällt aus!]
URL;VALUE=URI:https://gruene-ochtrup.de/termin/demonstration-gegen-die-uranmuellexporte-in-muenster/
DESCRIPTION:<strong>AUFGRUND DES ORKANS FÄLLT DIE DEMO AUS!</strong>

 

Die Initiative für den sofortigen Atomausstieg (SofA) aus Münster veranstaltet eine Demonstration gegen weitere Uranmüllexporte nach Russland.

Treffpunkt ist um 18:00 Uhr am Hauptbahnhof Münster

Die Route wird die Demonstrierenden durch das Bahnhofsviertel führen.
UID:20200210T180000-20200210T180000-20200210T180000
END:VEVENT
END:VCALENDAR