BEGIN:VCALENDAR
VERSION:2.0
PRODID:-//urwahl3000//gruene-ochtrup.de//DE
CALSCALE:GREGORIAN
BEGIN:VEVENT
DTSTART:20250307T190000
DTEND:20250307T190000
LOCATION: Grünen Büro\, Töpferstr.\, Ecke Fürstenbergstr.\, Ochtrup
GEO:;
DTSTAMP:20250307T190000
SUMMARY:GRÜNE Kleidertauschbörse
URL;VALUE=URI:https://gruene-ochtrup.de/termin/gruene-kleidertauschboerse/
DESCRIPTION:
UID:20250307T190000-20250307T190000-20250307T190000
END:VEVENT
END:VCALENDAR