BEGIN:VCALENDAR
VERSION:2.0
PRODID:-//urwahl3000//gruene-ochtrup.de//DE
CALSCALE:GREGORIAN
BEGIN:VEVENT
DTSTART:20251113T000000
DTEND:20251113T000000
LOCATION: 
GEO:;
DTSTAMP:20251113T000000
SUMMARY:Kreismitgliederversammlung
URL;VALUE=URI:https://gruene-ochtrup.de/termin/kreismitgliederversammlung-8/
DESCRIPTION:Weitere Infos folgen
UID:20251113T000000-20251113T000000-20251113T000000
END:VEVENT
END:VCALENDAR